BEGIN:VCALENDAR
VERSION:2.0
PRODID:-//St. Stephen AME Church - ECPv6.15.20//NONSGML v1.0//EN
CALSCALE:GREGORIAN
METHOD:PUBLISH
X-WR-CALNAME:St. Stephen AME Church
X-ORIGINAL-URL:https://ststephename.org
X-WR-CALDESC:Events for St. Stephen AME Church
REFRESH-INTERVAL;VALUE=DURATION:PT1H
X-Robots-Tag:noindex
X-PUBLISHED-TTL:PT1H
BEGIN:VTIMEZONE
TZID:America/Detroit
BEGIN:DAYLIGHT
TZOFFSETFROM:-0500
TZOFFSETTO:-0400
TZNAME:EDT
DTSTART:20220313T070000
END:DAYLIGHT
BEGIN:STANDARD
TZOFFSETFROM:-0400
TZOFFSETTO:-0500
TZNAME:EST
DTSTART:20221106T060000
END:STANDARD
BEGIN:DAYLIGHT
TZOFFSETFROM:-0500
TZOFFSETTO:-0400
TZNAME:EDT
DTSTART:20230312T070000
END:DAYLIGHT
BEGIN:STANDARD
TZOFFSETFROM:-0400
TZOFFSETTO:-0500
TZNAME:EST
DTSTART:20231105T060000
END:STANDARD
BEGIN:DAYLIGHT
TZOFFSETFROM:-0500
TZOFFSETTO:-0400
TZNAME:EDT
DTSTART:20240310T070000
END:DAYLIGHT
BEGIN:STANDARD
TZOFFSETFROM:-0400
TZOFFSETTO:-0500
TZNAME:EST
DTSTART:20241103T060000
END:STANDARD
END:VTIMEZONE
BEGIN:VEVENT
DTSTART;TZID=America/Detroit:20231006T130000
DTEND;TZID=America/Detroit:20231006T130000
DTSTAMP:20260423T201754
CREATED:20231022T011415Z
LAST-MODIFIED:20231022T011415Z
UID:12350-1696597200-1696597200@ststephename.org
SUMMARY:Prayer Time (Conference Call) - Rev. Amani K. Henry
DESCRIPTION:
URL:https://ststephename.org/event/prayer-time-conference-call-rev-amani-k-henry/
LOCATION:Conference Call
END:VEVENT
BEGIN:VEVENT
DTSTART;TZID=America/Detroit:20231002T103000
DTEND;TZID=America/Detroit:20231002T103000
DTSTAMP:20260423T201754
CREATED:20231022T010115Z
LAST-MODIFIED:20231022T010244Z
UID:12329-1696242600-1696242600@ststephename.org
SUMMARY:The Pastor's Bible Study (in-person)
DESCRIPTION:
URL:https://ststephename.org/event/the-pastors-bible-study/
LOCATION:St. Stephen AME Church Board Room\, 6000 John E Hunter\, Detroit\, MI\, 48210\, United States
END:VEVENT
BEGIN:VEVENT
DTSTART;TZID=America/Detroit:20231004T100000
DTEND;TZID=America/Detroit:20231004T100000
DTSTAMP:20260423T201754
CREATED:20231022T010557Z
LAST-MODIFIED:20231022T010557Z
UID:12337-1696413600-1696413600@ststephename.org
SUMMARY:Bible Study (Zoom)- Bro. James Stephens
DESCRIPTION:
URL:https://ststephename.org/event/bible-study-zoom-bro-james-stephens/
LOCATION:Virtual\, United States
END:VEVENT
BEGIN:VEVENT
DTSTART;TZID=America/Detroit:20231004T160000
DTEND;TZID=America/Detroit:20231004T160000
DTSTAMP:20260423T201754
CREATED:20231022T011123Z
LAST-MODIFIED:20231022T011123Z
UID:12343-1696435200-1696435200@ststephename.org
SUMMARY:Bible Study (Conference Call) -  Rev. Barbara Woodson
DESCRIPTION:
URL:https://ststephename.org/event/bible-study-conference-call-rev-barbara-woodson/
LOCATION:Conference Call
END:VEVENT
BEGIN:VEVENT
DTSTART;TZID=America/Detroit:20231006T130000
DTEND;TZID=America/Detroit:20231006T130000
DTSTAMP:20260423T201754
CREATED:20231022T011415Z
LAST-MODIFIED:20231022T011415Z
UID:12350-1696597200-1696597200@ststephename.org
SUMMARY:Prayer Time (Conference Call) - Rev. Amani K. Henry
DESCRIPTION:
URL:https://ststephename.org/event/prayer-time-conference-call-rev-amani-k-henry/
LOCATION:Conference Call
END:VEVENT
BEGIN:VEVENT
DTSTART;TZID=America/Detroit:20231002T103000
DTEND;TZID=America/Detroit:20231002T103000
DTSTAMP:20260423T201754
CREATED:20231022T010115Z
LAST-MODIFIED:20231022T010244Z
UID:12329-1696242600-1696242600@ststephename.org
SUMMARY:The Pastor's Bible Study (in-person)
DESCRIPTION:
URL:https://ststephename.org/event/the-pastors-bible-study/
LOCATION:St. Stephen AME Church Board Room\, 6000 John E Hunter\, Detroit\, MI\, 48210\, United States
END:VEVENT
BEGIN:VEVENT
DTSTART;TZID=America/Detroit:20231004T100000
DTEND;TZID=America/Detroit:20231004T100000
DTSTAMP:20260423T201754
CREATED:20231022T010557Z
LAST-MODIFIED:20231022T010557Z
UID:12337-1696413600-1696413600@ststephename.org
SUMMARY:Bible Study (Zoom)- Bro. James Stephens
DESCRIPTION:
URL:https://ststephename.org/event/bible-study-zoom-bro-james-stephens/
LOCATION:Virtual\, United States
END:VEVENT
BEGIN:VEVENT
DTSTART;TZID=America/Detroit:20231004T160000
DTEND;TZID=America/Detroit:20231004T160000
DTSTAMP:20260423T201754
CREATED:20231022T011123Z
LAST-MODIFIED:20231022T011123Z
UID:12343-1696435200-1696435200@ststephename.org
SUMMARY:Bible Study (Conference Call) -  Rev. Barbara Woodson
DESCRIPTION:
URL:https://ststephename.org/event/bible-study-conference-call-rev-barbara-woodson/
LOCATION:Conference Call
END:VEVENT
BEGIN:VEVENT
DTSTART;TZID=America/Detroit:20231006T130000
DTEND;TZID=America/Detroit:20231006T130000
DTSTAMP:20260423T201754
CREATED:20231022T011415Z
LAST-MODIFIED:20231022T011415Z
UID:12350-1696597200-1696597200@ststephename.org
SUMMARY:Prayer Time (Conference Call) - Rev. Amani K. Henry
DESCRIPTION:
URL:https://ststephename.org/event/prayer-time-conference-call-rev-amani-k-henry/
LOCATION:Conference Call
END:VEVENT
BEGIN:VEVENT
DTSTART;TZID=America/Detroit:20231002T103000
DTEND;TZID=America/Detroit:20231002T103000
DTSTAMP:20260423T201754
CREATED:20231022T010115Z
LAST-MODIFIED:20231022T010244Z
UID:12329-1696242600-1696242600@ststephename.org
SUMMARY:The Pastor's Bible Study (in-person)
DESCRIPTION:
URL:https://ststephename.org/event/the-pastors-bible-study/
LOCATION:St. Stephen AME Church Board Room\, 6000 John E Hunter\, Detroit\, MI\, 48210\, United States
END:VEVENT
BEGIN:VEVENT
DTSTART;TZID=America/Detroit:20231004T100000
DTEND;TZID=America/Detroit:20231004T100000
DTSTAMP:20260423T201754
CREATED:20231022T010557Z
LAST-MODIFIED:20231022T010557Z
UID:12337-1696413600-1696413600@ststephename.org
SUMMARY:Bible Study (Zoom)- Bro. James Stephens
DESCRIPTION:
URL:https://ststephename.org/event/bible-study-zoom-bro-james-stephens/
LOCATION:Virtual\, United States
END:VEVENT
BEGIN:VEVENT
DTSTART;TZID=America/Detroit:20231004T160000
DTEND;TZID=America/Detroit:20231004T160000
DTSTAMP:20260423T201754
CREATED:20231022T011123Z
LAST-MODIFIED:20231022T011123Z
UID:12343-1696435200-1696435200@ststephename.org
SUMMARY:Bible Study (Conference Call) -  Rev. Barbara Woodson
DESCRIPTION:
URL:https://ststephename.org/event/bible-study-conference-call-rev-barbara-woodson/
LOCATION:Conference Call
END:VEVENT
BEGIN:VEVENT
DTSTART;TZID=America/Detroit:20231006T130000
DTEND;TZID=America/Detroit:20231006T130000
DTSTAMP:20260423T201754
CREATED:20231022T011415Z
LAST-MODIFIED:20231022T011415Z
UID:12350-1696597200-1696597200@ststephename.org
SUMMARY:Prayer Time (Conference Call) - Rev. Amani K. Henry
DESCRIPTION:
URL:https://ststephename.org/event/prayer-time-conference-call-rev-amani-k-henry/
LOCATION:Conference Call
END:VEVENT
BEGIN:VEVENT
DTSTART;TZID=America/Detroit:20231002T103000
DTEND;TZID=America/Detroit:20231002T103000
DTSTAMP:20260423T201754
CREATED:20231022T010115Z
LAST-MODIFIED:20231022T010244Z
UID:12329-1696242600-1696242600@ststephename.org
SUMMARY:The Pastor's Bible Study (in-person)
DESCRIPTION:
URL:https://ststephename.org/event/the-pastors-bible-study/
LOCATION:St. Stephen AME Church Board Room\, 6000 John E Hunter\, Detroit\, MI\, 48210\, United States
END:VEVENT
BEGIN:VEVENT
DTSTART;TZID=America/Detroit:20231004T100000
DTEND;TZID=America/Detroit:20231004T100000
DTSTAMP:20260423T201754
CREATED:20231022T010557Z
LAST-MODIFIED:20231022T010557Z
UID:12337-1696413600-1696413600@ststephename.org
SUMMARY:Bible Study (Zoom)- Bro. James Stephens
DESCRIPTION:
URL:https://ststephename.org/event/bible-study-zoom-bro-james-stephens/
LOCATION:Virtual\, United States
END:VEVENT
BEGIN:VEVENT
DTSTART;TZID=America/Detroit:20231004T160000
DTEND;TZID=America/Detroit:20231004T160000
DTSTAMP:20260423T201754
CREATED:20231022T011123Z
LAST-MODIFIED:20231022T011123Z
UID:12343-1696435200-1696435200@ststephename.org
SUMMARY:Bible Study (Conference Call) -  Rev. Barbara Woodson
DESCRIPTION:
URL:https://ststephename.org/event/bible-study-conference-call-rev-barbara-woodson/
LOCATION:Conference Call
END:VEVENT
BEGIN:VEVENT
DTSTART;TZID=America/Detroit:20231006T130000
DTEND;TZID=America/Detroit:20231006T130000
DTSTAMP:20260423T201754
CREATED:20231022T011415Z
LAST-MODIFIED:20231022T011415Z
UID:12350-1696597200-1696597200@ststephename.org
SUMMARY:Prayer Time (Conference Call) - Rev. Amani K. Henry
DESCRIPTION:
URL:https://ststephename.org/event/prayer-time-conference-call-rev-amani-k-henry/
LOCATION:Conference Call
END:VEVENT
BEGIN:VEVENT
DTSTART;TZID=America/Detroit:20231002T103000
DTEND;TZID=America/Detroit:20231002T103000
DTSTAMP:20260423T201754
CREATED:20231022T010115Z
LAST-MODIFIED:20231022T010244Z
UID:12329-1696242600-1696242600@ststephename.org
SUMMARY:The Pastor's Bible Study (in-person)
DESCRIPTION:
URL:https://ststephename.org/event/the-pastors-bible-study/
LOCATION:St. Stephen AME Church Board Room\, 6000 John E Hunter\, Detroit\, MI\, 48210\, United States
END:VEVENT
BEGIN:VEVENT
DTSTART;TZID=America/Detroit:20231004T100000
DTEND;TZID=America/Detroit:20231004T100000
DTSTAMP:20260423T201754
CREATED:20231022T010557Z
LAST-MODIFIED:20231022T010557Z
UID:12337-1696413600-1696413600@ststephename.org
SUMMARY:Bible Study (Zoom)- Bro. James Stephens
DESCRIPTION:
URL:https://ststephename.org/event/bible-study-zoom-bro-james-stephens/
LOCATION:Virtual\, United States
END:VEVENT
BEGIN:VEVENT
DTSTART;TZID=America/Detroit:20231004T160000
DTEND;TZID=America/Detroit:20231004T160000
DTSTAMP:20260423T201754
CREATED:20231022T011123Z
LAST-MODIFIED:20231022T011123Z
UID:12343-1696435200-1696435200@ststephename.org
SUMMARY:Bible Study (Conference Call) -  Rev. Barbara Woodson
DESCRIPTION:
URL:https://ststephename.org/event/bible-study-conference-call-rev-barbara-woodson/
LOCATION:Conference Call
END:VEVENT
BEGIN:VEVENT
DTSTART;TZID=America/Detroit:20231006T130000
DTEND;TZID=America/Detroit:20231006T130000
DTSTAMP:20260423T201754
CREATED:20231022T011415Z
LAST-MODIFIED:20231022T011415Z
UID:12350-1696597200-1696597200@ststephename.org
SUMMARY:Prayer Time (Conference Call) - Rev. Amani K. Henry
DESCRIPTION:
URL:https://ststephename.org/event/prayer-time-conference-call-rev-amani-k-henry/
LOCATION:Conference Call
END:VEVENT
BEGIN:VEVENT
DTSTART;TZID=America/Detroit:20231002T103000
DTEND;TZID=America/Detroit:20231002T103000
DTSTAMP:20260423T201754
CREATED:20231022T010115Z
LAST-MODIFIED:20231022T010244Z
UID:12329-1696242600-1696242600@ststephename.org
SUMMARY:The Pastor's Bible Study (in-person)
DESCRIPTION:
URL:https://ststephename.org/event/the-pastors-bible-study/
LOCATION:St. Stephen AME Church Board Room\, 6000 John E Hunter\, Detroit\, MI\, 48210\, United States
END:VEVENT
BEGIN:VEVENT
DTSTART;TZID=America/Detroit:20231004T100000
DTEND;TZID=America/Detroit:20231004T100000
DTSTAMP:20260423T201754
CREATED:20231022T010557Z
LAST-MODIFIED:20231022T010557Z
UID:12337-1696413600-1696413600@ststephename.org
SUMMARY:Bible Study (Zoom)- Bro. James Stephens
DESCRIPTION:
URL:https://ststephename.org/event/bible-study-zoom-bro-james-stephens/
LOCATION:Virtual\, United States
END:VEVENT
BEGIN:VEVENT
DTSTART;TZID=America/Detroit:20231004T160000
DTEND;TZID=America/Detroit:20231004T160000
DTSTAMP:20260423T201754
CREATED:20231022T011123Z
LAST-MODIFIED:20231022T011123Z
UID:12343-1696435200-1696435200@ststephename.org
SUMMARY:Bible Study (Conference Call) -  Rev. Barbara Woodson
DESCRIPTION:
URL:https://ststephename.org/event/bible-study-conference-call-rev-barbara-woodson/
LOCATION:Conference Call
END:VEVENT
BEGIN:VEVENT
DTSTART;TZID=America/Detroit:20231006T130000
DTEND;TZID=America/Detroit:20231006T130000
DTSTAMP:20260423T201754
CREATED:20231022T011415Z
LAST-MODIFIED:20231022T011415Z
UID:12350-1696597200-1696597200@ststephename.org
SUMMARY:Prayer Time (Conference Call) - Rev. Amani K. Henry
DESCRIPTION:
URL:https://ststephename.org/event/prayer-time-conference-call-rev-amani-k-henry/
LOCATION:Conference Call
END:VEVENT
BEGIN:VEVENT
DTSTART;TZID=America/Detroit:20231002T103000
DTEND;TZID=America/Detroit:20231002T103000
DTSTAMP:20260423T201754
CREATED:20231022T010115Z
LAST-MODIFIED:20231022T010244Z
UID:12329-1696242600-1696242600@ststephename.org
SUMMARY:The Pastor's Bible Study (in-person)
DESCRIPTION:
URL:https://ststephename.org/event/the-pastors-bible-study/
LOCATION:St. Stephen AME Church Board Room\, 6000 John E Hunter\, Detroit\, MI\, 48210\, United States
END:VEVENT
BEGIN:VEVENT
DTSTART;TZID=America/Detroit:20231004T100000
DTEND;TZID=America/Detroit:20231004T100000
DTSTAMP:20260423T201754
CREATED:20231022T010557Z
LAST-MODIFIED:20231022T010557Z
UID:12337-1696413600-1696413600@ststephename.org
SUMMARY:Bible Study (Zoom)- Bro. James Stephens
DESCRIPTION:
URL:https://ststephename.org/event/bible-study-zoom-bro-james-stephens/
LOCATION:Virtual\, United States
END:VEVENT
BEGIN:VEVENT
DTSTART;TZID=America/Detroit:20231004T160000
DTEND;TZID=America/Detroit:20231004T160000
DTSTAMP:20260423T201754
CREATED:20231022T011123Z
LAST-MODIFIED:20231022T011123Z
UID:12343-1696435200-1696435200@ststephename.org
SUMMARY:Bible Study (Conference Call) -  Rev. Barbara Woodson
DESCRIPTION:
URL:https://ststephename.org/event/bible-study-conference-call-rev-barbara-woodson/
LOCATION:Conference Call
END:VEVENT
BEGIN:VEVENT
DTSTART;TZID=America/Detroit:20231006T130000
DTEND;TZID=America/Detroit:20231006T130000
DTSTAMP:20260423T201754
CREATED:20231022T011415Z
LAST-MODIFIED:20231022T011415Z
UID:12350-1696597200-1696597200@ststephename.org
SUMMARY:Prayer Time (Conference Call) - Rev. Amani K. Henry
DESCRIPTION:
URL:https://ststephename.org/event/prayer-time-conference-call-rev-amani-k-henry/
LOCATION:Conference Call
END:VEVENT
BEGIN:VEVENT
DTSTART;TZID=America/Detroit:20231002T103000
DTEND;TZID=America/Detroit:20231002T103000
DTSTAMP:20260423T201754
CREATED:20231022T010115Z
LAST-MODIFIED:20231022T010244Z
UID:12329-1696242600-1696242600@ststephename.org
SUMMARY:The Pastor's Bible Study (in-person)
DESCRIPTION:
URL:https://ststephename.org/event/the-pastors-bible-study/
LOCATION:St. Stephen AME Church Board Room\, 6000 John E Hunter\, Detroit\, MI\, 48210\, United States
END:VEVENT
END:VCALENDAR