BEGIN:VCALENDAR
VERSION:2.0
PRODID:-//St. Stephen AME Church - ECPv6.15.20//NONSGML v1.0//EN
CALSCALE:GREGORIAN
METHOD:PUBLISH
X-ORIGINAL-URL:https://ststephename.org
X-WR-CALDESC:Events for St. Stephen AME Church
REFRESH-INTERVAL;VALUE=DURATION:PT1H
X-Robots-Tag:noindex
X-PUBLISHED-TTL:PT1H
BEGIN:VTIMEZONE
TZID:America/Detroit
BEGIN:DAYLIGHT
TZOFFSETFROM:-0500
TZOFFSETTO:-0400
TZNAME:EDT
DTSTART:20190310T070000
END:DAYLIGHT
BEGIN:STANDARD
TZOFFSETFROM:-0400
TZOFFSETTO:-0500
TZNAME:EST
DTSTART:20191103T060000
END:STANDARD
BEGIN:DAYLIGHT
TZOFFSETFROM:-0500
TZOFFSETTO:-0400
TZNAME:EDT
DTSTART:20200308T070000
END:DAYLIGHT
BEGIN:STANDARD
TZOFFSETFROM:-0400
TZOFFSETTO:-0500
TZNAME:EST
DTSTART:20201101T060000
END:STANDARD
BEGIN:DAYLIGHT
TZOFFSETFROM:-0500
TZOFFSETTO:-0400
TZNAME:EDT
DTSTART:20210314T070000
END:DAYLIGHT
BEGIN:STANDARD
TZOFFSETFROM:-0400
TZOFFSETTO:-0500
TZNAME:EST
DTSTART:20211107T060000
END:STANDARD
END:VTIMEZONE
BEGIN:VEVENT
DTSTART;VALUE=DATE:20200216
DTEND;VALUE=DATE:20200217
DTSTAMP:20260423T202118
CREATED:20200204T015536Z
LAST-MODIFIED:20200204T015536Z
UID:5836-1581811200-1581897599@ststephename.org
SUMMARY:Historical Committee
DESCRIPTION:After Service
URL:https://ststephename.org/event/historical-committee/
LOCATION:St. Stephen AME Church\, 6000 John E Hunter Dr\, Detroit\, MI\, United States
END:VEVENT
BEGIN:VEVENT
DTSTART;VALUE=DATE:20200216
DTEND;VALUE=DATE:20200217
DTSTAMP:20260423T202118
CREATED:20200204T015733Z
LAST-MODIFIED:20200204T015733Z
UID:5861-1581811200-1581897599@ststephename.org
SUMMARY:Goodwill Club
DESCRIPTION:After Service
URL:https://ststephename.org/event/goodwill-club/
LOCATION:St. Stephen AME Church\, 6000 John E Hunter Dr\, Detroit\, MI\, United States
END:VEVENT
BEGIN:VEVENT
DTSTART;VALUE=DATE:20200216
DTEND;VALUE=DATE:20200217
DTSTAMP:20260423T202118
CREATED:20200204T020051Z
LAST-MODIFIED:20200204T020051Z
UID:5883-1581811200-1581897599@ststephename.org
SUMMARY:YPD Meeting
DESCRIPTION:After Service
URL:https://ststephename.org/event/ypd-meeting/
LOCATION:St. Stephen AME Church\, 6000 John E Hunter Dr\, Detroit\, MI\, United States
END:VEVENT
BEGIN:VEVENT
DTSTART;TZID=America/Detroit:20200119T103000
DTEND;TZID=America/Detroit:20200119T103000
DTSTAMP:20260423T202118
CREATED:20200117T041140Z
LAST-MODIFIED:20230505T195606Z
UID:4082-1579429800-1579429800@ststephename.org
SUMMARY:Worship Service
DESCRIPTION:
URL:https://ststephename.org/event/worship-service/
LOCATION:St. Stephen AME Church\, 6000 John E Hunter Dr\, Detroit\, MI\, United States
END:VEVENT
END:VCALENDAR