BEGIN:VCALENDAR
VERSION:2.0
PRODID:-//St. Stephen AME Church - ECPv6.15.20//NONSGML v1.0//EN
CALSCALE:GREGORIAN
METHOD:PUBLISH
X-ORIGINAL-URL:https://ststephename.org
X-WR-CALDESC:Events for St. Stephen AME Church
REFRESH-INTERVAL;VALUE=DURATION:PT1H
X-Robots-Tag:noindex
X-PUBLISHED-TTL:PT1H
BEGIN:VTIMEZONE
TZID:America/Detroit
BEGIN:DAYLIGHT
TZOFFSETFROM:-0500
TZOFFSETTO:-0400
TZNAME:EDT
DTSTART:20220313T070000
END:DAYLIGHT
BEGIN:STANDARD
TZOFFSETFROM:-0400
TZOFFSETTO:-0500
TZNAME:EST
DTSTART:20221106T060000
END:STANDARD
BEGIN:DAYLIGHT
TZOFFSETFROM:-0500
TZOFFSETTO:-0400
TZNAME:EDT
DTSTART:20230312T070000
END:DAYLIGHT
BEGIN:STANDARD
TZOFFSETFROM:-0400
TZOFFSETTO:-0500
TZNAME:EST
DTSTART:20231105T060000
END:STANDARD
BEGIN:DAYLIGHT
TZOFFSETFROM:-0500
TZOFFSETTO:-0400
TZNAME:EDT
DTSTART:20240310T070000
END:DAYLIGHT
BEGIN:STANDARD
TZOFFSETFROM:-0400
TZOFFSETTO:-0500
TZNAME:EST
DTSTART:20241103T060000
END:STANDARD
END:VTIMEZONE
BEGIN:VEVENT
DTSTART;TZID=America/Detroit:20231028T150000
DTEND;TZID=America/Detroit:20231028T180000
DTSTAMP:20260423T135130
CREATED:20231022T004520Z
LAST-MODIFIED:20231022T004520Z
UID:12322-1698505200-1698516000@ststephename.org
SUMMARY:Harvest Festival Game Day
DESCRIPTION:
URL:https://ststephename.org/event/harvest-festival-game-day/
LOCATION:St. Stephen AME Church\, 6000 John E Hunter Dr\, Detroit\, MI\, United States
ATTACH;FMTTYPE=image/jpeg:https://ststephename.org/wp-content/uploads/2023/10/image2.jpeg
END:VEVENT
END:VCALENDAR